BEGIN:VCALENDAR
PRODID:-//eluceo/ical//2.0/EN
VERSION:2.0
CALSCALE:GREGORIAN
BEGIN:VEVENT
UID:04bb0037c0dea975029293fe7bea204b
DTSTAMP:20260423T114853Z
SUMMARY:UJA Federation | Yom Hashoah Community Commemoration
DESCRIPTION:UJA Federation of Greater Toronto\nJewish Toronto Calendar\nhtt
 ps://jewishtoronto.com/calendar/yom-hashoah-community-commemoration-170023
 6759\n\nAnnual Yom Hashoah Community Commemoration.
DTSTART;TZID=America/Toronto:20240505T180000
DTEND;TZID=America/Toronto:20240505T220000
END:VEVENT
END:VCALENDAR
