BEGIN:VCALENDAR
PRODID:-//eluceo/ical//2.0/EN
VERSION:2.0
CALSCALE:GREGORIAN
BEGIN:VEVENT
UID:1c47aea9b911283dc19646f83e1d54ef
DTSTAMP:20260424T070324Z
SUMMARY:Yom Hashoah Community Commemoration
DESCRIPTION:UJA Federation of Greater Toronto\nJewish Toronto Calendar\nhtt
 ps://jewishtoronto.com/calendar/yom-hashoah-community-commemoration\n\nHol
 ocaust community commemoration
DTSTART;TZID=America/Toronto:20140427T110000
DTEND;TZID=America/Toronto:20140427T150000
END:VEVENT
END:VCALENDAR
