BEGIN:VCALENDAR
PRODID:-//eluceo/ical//2.0/EN
VERSION:2.0
CALSCALE:GREGORIAN
BEGIN:VEVENT
UID:b7d5ff6e2e726abc4ab5d19a856673fe
DTSTAMP:20260421T174914Z
SUMMARY:Yom HaShoah Commemoration with Guest speaker: Piotr Wróbel
DESCRIPTION:UJA Federation of Greater Toronto\nJewish Toronto Calendar\nhtt
 ps://jewishtoronto.com/calendar/yom-hashoah-commemoration-with-guest-speak
 er-piotr-wrbel-1522949706\n\nCommemorate Holocaust Remembrance Day with re
 flections\, a candle lighting ceremony and a special presentation by profe
 ssor Piotr Wróbel who will discuss the 75th anniversary of the Warsaw Ghe
 tto Uprising.\nPresented in partnership with the Azrieli Foundation. Gener
 ously sponsored by Sandra Handler.\nFREE! To RSVP\, contact Lisa Roy at li
 sar@mnjcc.org or (416) 924-6211 x155.
DTSTART;TZID=America/Toronto:20180412T133000
DTEND;TZID=America/Toronto:20180412T150000
END:VEVENT
END:VCALENDAR
