BEGIN:VCALENDAR
PRODID:-//eluceo/ical//2.0/EN
VERSION:2.0
CALSCALE:GREGORIAN
BEGIN:VEVENT
UID:39d423626ec4819a53a07a00ddec6bcc
DTSTAMP:20260420T095817Z
SUMMARY:FSWC - Yom Haatzmaut Celebration
DESCRIPTION:UJA Federation of Greater Toronto\nJewish Toronto Calendar\nhtt
 ps://jewishtoronto.com/calendar/yom-haatzmaut-celebration-1474649569\n\nYo
 m Haatzmaut Celebration hosted by Friends of Simon Wiesenthal Centre for H
 olocaust Studies
DTSTART;TZID=America/Toronto:20170502T190000
DTEND;TZID=America/Toronto:20170502T220000
END:VEVENT
END:VCALENDAR
