BEGIN:VCALENDAR
PRODID:-//eluceo/ical//2.0/EN
VERSION:2.0
CALSCALE:GREGORIAN
BEGIN:VEVENT
UID:9dd1831c277b3d7b486cc3e888d289f5
DTSTAMP:20260422T105138Z
SUMMARY:Yiddish Concert and Café: Hartzedike-Lider (Heartsongs)
DESCRIPTION:UJA Federation of Greater Toronto\nJewish Toronto Calendar\nhtt
 ps://jewishtoronto.com/calendar/yiddish-concert-and-caf-hartzedike-lider-h
 eartsongs-1746816371\n\nJoin us in the Al Green Theatre for an afternoon o
 f music and Mameloshn at our Yiddish Concert and Café\, featuring Allan M
 erowitz\, Brian Katz & Jonno Lightstone! Acclaimed musical group Hartzedik
 e-Lider has thrilled audiences world-wide\, bringing together well-loved Y
 iddish gems\, klezmer\, and original compositions in new and exciting arra
 ngements - ‘bluesing’\, experimenting and reharmonizing to find new mu
 sical riches. There will definitely be opportunities to sing and scat alon
 g! We wil...
DTSTART;TZID=America/Toronto:20250612T133000
DTEND;TZID=America/Toronto:20250612T153000
END:VEVENT
END:VCALENDAR
