BEGIN:VCALENDAR
PRODID:-//eluceo/ical//2.0/EN
VERSION:2.0
CALSCALE:GREGORIAN
BEGIN:VEVENT
UID:bb47f03a29a433cc6103cffccd479911
DTSTAMP:20260422T203125Z
SUMMARY:YEZIDI STORIES: Life Before and After the Genocide
DESCRIPTION:UJA Federation of Greater Toronto\nJewish Toronto Calendar\nhtt
 ps://jewishtoronto.com/calendar/yezidi-stories-life-before-and-after-the-g
 enocide-1452440080\n\nYEZIDI STORIES: Life Before and After the Genocide: 
  An afternoon of culture\, music\, and personal histories. \nSunday\, Janu
 ary 31\, 2:00 p.m.\, \nToronto Zionist Centre\, 788 Marlee Avenue\, Toront
 o.\nCome listen\, speak with\, learn - And help save the Yezidi People of 
 northern Iraq from genocide by ISIS and sexual slavery! \nSponsored by Can
 adian Jews and Friends for Yezidis:\n$20 donation requested\, or PWYC. All
  proceeds to Yezidi Human Rights Organization International
DTSTART;TZID=America/Toronto:20160131T140000
DTEND;TZID=America/Toronto:20160131T170000
END:VEVENT
END:VCALENDAR
