BEGIN:VCALENDAR
PRODID:-//eluceo/ical//2.0/EN
VERSION:2.0
CALSCALE:GREGORIAN
BEGIN:VEVENT
UID:4dae4959e5501b1d778b66ffff5438b7
DTSTAMP:20260421T080646Z
SUMMARY:Yeshivat Or Chaim Open House for Grade 8 Parents & Students
DESCRIPTION:UJA Federation of Greater Toronto\nJewish Toronto Calendar\nhtt
 ps://jewishtoronto.com/calendar/yeshivat-or-chaim-open-house-for-grade-8-p
 arents--students-1553692371\n\nYeshivat Or Chaim Open House for Grade 8 Pa
 rents & Students
DTSTART;TZID=America/Toronto:20191103T090000
DTEND;TZID=America/Toronto:20191103T123000
END:VEVENT
END:VCALENDAR
