BEGIN:VCALENDAR
PRODID:-//eluceo/ical//2.0/EN
VERSION:2.0
CALSCALE:GREGORIAN
BEGIN:VEVENT
UID:841ac36f8f817062b226eb1c6d7f7f08
DTSTAMP:20260420T130300Z
SUMMARY:Yeshivat Or Chaim Open House
DESCRIPTION:UJA Federation of Greater Toronto\nJewish Toronto Calendar\nhtt
 ps://jewishtoronto.com/calendar/yeshivat-or-chaim-open-house-1485786378\n\
 nYeshivat Or Chaim Open House for Prospective Students and Parents.
DTSTART;TZID=America/Toronto:20171105T090000
DTEND;TZID=America/Toronto:20171105T123000
END:VEVENT
END:VCALENDAR
