BEGIN:VCALENDAR
PRODID:-//eluceo/ical//2.0/EN
VERSION:2.0
CALSCALE:GREGORIAN
BEGIN:VEVENT
UID:df250960fe8e395832dbdc63f8b51dfc
DTSTAMP:20260423T022657Z
SUMMARY:Yachad Shabbaton at Shaarei Shomayim
DESCRIPTION:UJA Federation of Greater Toronto\nJewish Toronto Calendar\nhtt
 ps://jewishtoronto.com/calendar/yachad-shabbaton-at-shaarei-shomayim-15469
 61673\n\nThis is a first come first serve basis and unfortunately we will 
 not be able to accept any late applications. Registration is open and the 
 early bird discount of $65 is available until Jan. 10. Registration after 
 Jan. 10 is $75. Please register ASAP at:\nhttps://www.yachad.org/toronto/e
 vents/11442/yachad-shabbaton-at-shaarei-shomayim\n\n 
DTSTART;TZID=America/Toronto:20190215T160000
DTEND;TZID=America/Toronto:20190216T084500
END:VEVENT
END:VCALENDAR
