BEGIN:VCALENDAR
PRODID:-//eluceo/ical//2.0/EN
VERSION:2.0
CALSCALE:GREGORIAN
BEGIN:VEVENT
UID:b672306aba5ddf465b8c32fb68469f3c
DTSTAMP:20260421T115526Z
SUMMARY:Yachad Ladies day to Shaw Festival at Niagara on the Lake
DESCRIPTION:UJA Federation of Greater Toronto\nJewish Toronto Calendar\nhtt
 ps://jewishtoronto.com/calendar/yachad-ladies-day-to-shaw-festival-at-niag
 ara-on-the-lake\n\nDetails to follow.\n\n \n\n \n \n\n\n 
DTSTART;TZID=America/Toronto:20151014T090000
DTEND;TZID=America/Toronto:20151014T180000
END:VEVENT
END:VCALENDAR
