BEGIN:VCALENDAR
PRODID:-//eluceo/ical//2.0/EN
VERSION:2.0
CALSCALE:GREGORIAN
BEGIN:VEVENT
UID:c0577e0091355aa5ba3874f999c615b8
DTSTAMP:20260422T144408Z
SUMMARY:Yachad 5th Annual Marathon
DESCRIPTION:UJA Federation of Greater Toronto\nJewish Toronto Calendar\nhtt
 ps://jewishtoronto.com/calendar/yachad-5th-annual-marathon-1519679964\n\nC
 ome Join Yachad for our 5th Annual Marathon at the Goodlife Fitness Marath
 on by Ontario Place. Join us for the half marathon or the 5K walk with our
  Yachad participants. Challenge yourself and have an amazing experience wh
 ile supporting a worthwhile organization.
DTSTART;TZID=America/Toronto:20180506T100000
DTEND;TZID=America/Toronto:20180506T140000
END:VEVENT
END:VCALENDAR
