BEGIN:VCALENDAR
PRODID:-//eluceo/ical//2.0/EN
VERSION:2.0
CALSCALE:GREGORIAN
BEGIN:VEVENT
UID:f44d4ac0e30d27447ed61ffaeffcf295
DTSTAMP:20260424T123213Z
SUMMARY:Yachad 4th Annual Educational Conference
DESCRIPTION:UJA Federation of Greater Toronto\nJewish Toronto Calendar\nhtt
 ps://jewishtoronto.com/calendar/yachad-4th-annual-educational-conference-1
 488745860\n\nYachad is pleased to present it's 4th Annual Educational Conf
 erence. The keynote speaker will be. Robert Langston. To register please v
 isit: yachad.org/toronto. For further information\, please contact Devorah
  Marmer at: torontoyachad@ou.org.
DTSTART;TZID=America/Toronto:20171113T080000
DTEND;TZID=America/Toronto:20171113T160000
END:VEVENT
END:VCALENDAR
