BEGIN:VCALENDAR
PRODID:-//eluceo/ical//2.0/EN
VERSION:2.0
CALSCALE:GREGORIAN
BEGIN:VEVENT
UID:b705505a33ffa0d0e2f3a0b4dd6cd092
DTSTAMP:20260424T094839Z
SUMMARY:Yachad 1st Annual Tea
DESCRIPTION:UJA Federation of Greater Toronto\nJewish Toronto Calendar\nhtt
 ps://jewishtoronto.com/calendar/yachad-1st-annual-tea-1583431264\n\nLearn 
 what Yachad Toronto offers the Toronto community and enjoy a beautiful Gar
 denTea Party by our gracious hostess Goldie Hauer
DTSTART;TZID=America/Toronto:20200621T130000
DTEND;TZID=America/Toronto:20200621T150000
END:VEVENT
END:VCALENDAR
