BEGIN:VCALENDAR
PRODID:-//eluceo/ical//2.0/EN
VERSION:2.0
CALSCALE:GREGORIAN
BEGIN:VEVENT
UID:7d22a3f8e40e96dc7feb869016d5b267
DTSTAMP:20260422T115201Z
SUMMARY:WZO Election in Canada
DESCRIPTION:UJA Federation of Greater Toronto\nJewish Toronto Calendar\nhtt
 ps://jewishtoronto.com/calendar/wzo-election-in-canada\n\nWZO Election in 
 Canada.\n\n \n\nClick here for more details. \n\n 
DTSTART;TZID=America/Toronto:20250605T000000
DTEND;TZID=America/Toronto:20250615T235959
END:VEVENT
END:VCALENDAR
