BEGIN:VCALENDAR
PRODID:-//eluceo/ical//2.0/EN
VERSION:2.0
CALSCALE:GREGORIAN
BEGIN:VEVENT
UID:4a58571020b48938377426a2503b5e3a
DTSTAMP:20260421T103724Z
SUMMARY:Wrestling Jerusalem
DESCRIPTION:UJA Federation of Greater Toronto\nJewish Toronto Calendar\nhtt
 ps://jewishtoronto.com/calendar/wrestling-jerusalem-1473293548\n\nFor more
  info visit www.wrestlingjerusalem.com
DTSTART;TZID=America/Toronto:20161123T200000
DTEND;TZID=America/Toronto:20161127T200000
END:VEVENT
END:VCALENDAR
