BEGIN:VCALENDAR
PRODID:-//eluceo/ical//2.0/EN
VERSION:2.0
CALSCALE:GREGORIAN
BEGIN:VEVENT
UID:e1431b143a5b3d3ad28ada3d0f98a4e1
DTSTAMP:20260421T054552Z
SUMMARY:World Wide Wrap: Wrap for Israel
DESCRIPTION:UJA Federation of Greater Toronto\nJewish Toronto Calendar\nhtt
 ps://jewishtoronto.com/calendar/world-wide-wrap-wrap-for-israel-1704833648
 \n\nWrap in Solidarity with Israel\n\nOn Superbowl Sunday\, take part in t
 he Federation of Jewish Men’s Club's World Wide Wrap\, a “Wrap For Isr
 ael”. \n\nJoin together with Beth Tzedec and synagogues around the world
  in solidarity with Israel. Participate in the morning Minyan and learn ab
 out the wonder of tefillin while demonstrating the strength and unity of o
 ur Jewish faith in response to the challenges being faced by Israel. This 
 simple mitzvot unites us across all boundaries.\n\nThe...
DTSTART;TZID=America/Toronto:20240211T084500
DTEND;TZID=America/Toronto:20240211T103000
END:VEVENT
END:VCALENDAR
