BEGIN:VCALENDAR
PRODID:-//eluceo/ical//2.0/EN
VERSION:2.0
CALSCALE:GREGORIAN
BEGIN:VEVENT
UID:a539d9a70eff1dfec55a42b95ee7df3a
DTSTAMP:20260422T103459Z
SUMMARY:World Wide Wrap - Beth Emeth Bais Yehuda Synagogue
DESCRIPTION:UJA Federation of Greater Toronto\nJewish Toronto Calendar\nhtt
 ps://jewishtoronto.com/calendar/world-wide-wrap-beth-emeth-bais-yehuda-syn
 agogue\n\nJoin us as we celebrate the World Wide Wrap\n\nMen and Women W
 elcome. Breakfast served following services.  Call the office to reserve.
  
DTSTART;TZID=America/Toronto:20150201T083000
DTEND;TZID=America/Toronto:20150201T100000
END:VEVENT
END:VCALENDAR
