BEGIN:VCALENDAR
PRODID:-//eluceo/ical//2.0/EN
VERSION:2.0
CALSCALE:GREGORIAN
BEGIN:VEVENT
UID:80249a7c95f3625199ae259cb05f32bd
DTSTAMP:20260420T194718Z
SUMMARY:Working on a Dream Community Event
DESCRIPTION:UJA Federation of Greater Toronto\nJewish Toronto Calendar\nhtt
 ps://jewishtoronto.com/calendar/working-on-a-dream-community-event\n\nEnjo
 y an Evening filled with the vibrant Spirit and Passion of Bruce Springste
 en!\n\n“The River Street Band is convincing. They give audiences the sam
 e generosity and intensity as Springsteen himself.” - The Toronto Star.
  Visit the website to learn more about the Band - see video clips and mor
 e: riverstreetband.com\n\nJesse Gold is a Pop/Rock/R&B singer\, songwriter
  and guitarist who worked with Montreal artist Nikki Yanofsky. The two Co-
 wrote "Come On Over" which would become track 4 of...
DTSTART;TZID=America/Toronto:20150124T203000
DTEND;TZID=America/Toronto:20150124T235500
END:VEVENT
END:VCALENDAR
