BEGIN:VCALENDAR
PRODID:-//eluceo/ical//2.0/EN
VERSION:2.0
CALSCALE:GREGORIAN
BEGIN:VEVENT
UID:a32adf4bac1cc598e905fd47ad252321
DTSTAMP:20260425T010822Z
SUMMARY:Wonderful Women Event Day One
DESCRIPTION:UJA Federation of Greater Toronto\nJewish Toronto Calendar\nhtt
 ps://jewishtoronto.com/calendar/wonderful-women-event-day-one\n\nTime TBD\
 n\n 
DTSTART;TZID=America/Toronto:20150428T000000
DTEND;TZID=America/Toronto:20150428T000000
END:VEVENT
END:VCALENDAR
