BEGIN:VCALENDAR
PRODID:-//eluceo/ical//2.0/EN
VERSION:2.0
CALSCALE:GREGORIAN
BEGIN:VEVENT
UID:6afb4ff774857018c69cc8ae2dd4582e
DTSTAMP:20260423T082721Z
SUMMARY:Women’s Virtual Seder
DESCRIPTION:UJA Federation of Greater Toronto\nJewish Toronto Calendar\nhtt
 ps://jewishtoronto.com/calendar/womens-virtual-seder-1585587271\n\nFor mor
 e than 20 years\, Jacqueline Friedland has organized a Women’s Seder for
  family and friends\, typically on an every other year basis. While 2020 w
 as not originally scheduled for such a Seder\, today’s unique circumstan
 ces prompted Jacque to reach out to Holy Blossom Temple to lead such a Sed
 er – virtually. A Women’s Seder is a time for women of all ages to com
 e together for a unique experience – to tell the historical story of Exo
 dus focused on the women who played a part. It’...
DTSTART;TZID=America/Toronto:20200405T140000
DTEND;TZID=America/Toronto:20200405T170000
END:VEVENT
END:VCALENDAR
