BEGIN:VCALENDAR
PRODID:-//eluceo/ical//2.0/EN
VERSION:2.0
CALSCALE:GREGORIAN
BEGIN:VEVENT
UID:b813c24724c8851884593345a60c554f
DTSTAMP:20260425T173758Z
SUMMARY:Women's Philanthropy Lion Networking Event
DESCRIPTION:UJA Federation of Greater Toronto\nJewish Toronto Calendar\nhtt
 ps://jewishtoronto.com/calendar/womens-philanthropy-lion-networking-event\
 n\nWomen's Philanthropy Lion Networking Event\n\n \n\n \n\n \n\n \n\n
  
DTSTART;TZID=America/Toronto:20160209T173000
DTEND;TZID=America/Toronto:20160209T193000
END:VEVENT
END:VCALENDAR
