BEGIN:VCALENDAR
PRODID:-//eluceo/ical//2.0/EN
VERSION:2.0
CALSCALE:GREGORIAN
BEGIN:VEVENT
UID:04b7aa13075c50c76a1254ad9bb21735
DTSTAMP:20260424T111928Z
SUMMARY:Women’s Newcomer Network with JIAS
DESCRIPTION:UJA Federation of Greater Toronto\nJewish Toronto Calendar\nhtt
 ps://jewishtoronto.com/calendar/womens-newcomer-network-with-jias-15682267
 52\n\nWomen’s Newcomer Network with JIAS
DTSTART;TZID=America/Toronto:20191107T183000
DTEND;TZID=America/Toronto:20191107T203000
END:VEVENT
END:VCALENDAR
