BEGIN:VCALENDAR
PRODID:-//eluceo/ical//2.0/EN
VERSION:2.0
CALSCALE:GREGORIAN
BEGIN:VEVENT
UID:23fdc210063dc09b27d99d9d1396084a
DTSTAMP:20260419T183037Z
SUMMARY:Women of Adath:  Learning to Lead Minchah
DESCRIPTION:UJA Federation of Greater Toronto\nJewish Toronto Calendar\nhtt
 ps://jewishtoronto.com/calendar/women-of-adath--learning-to-lead-minchah-1
 616781392\n\nIn these three sessions\, you will learn how to serve as shal
 iach tzibbur (prayer leader) for the afternoon service. This skill is part
 icularly needed as Adath Israel seeks to grow the number of members who ca
 n lead a shiva service. Ability to read Hebrew with some fluency required.
  Facilitated by Rabbi David Seed
DTSTART;TZID=America/Toronto:20210601T133000
DTEND;TZID=America/Toronto:20210601T143000
END:VEVENT
END:VCALENDAR
