BEGIN:VCALENDAR
PRODID:-//eluceo/ical//2.0/EN
VERSION:2.0
CALSCALE:GREGORIAN
BEGIN:VEVENT
UID:6a70312e3455002e2284700a56610602
DTSTAMP:20260420T080948Z
SUMMARY:Women of Adath:  Learning to Chant Haftarah
DESCRIPTION:UJA Federation of Greater Toronto\nJewish Toronto Calendar\nhtt
 ps://jewishtoronto.com/calendar/women-of-adath--learning-to-chant-haftarah
 -1616781195\n\nIn these sessions\, you will learn the trope (musical notat
 ion) of the Haftarah. By the end\, you will have the skill to chant a Haft
 arah on a Shabbat morning. Ability to read Hebrew with some fluency requir
 ed. Some individual sessions provided.  Facilitated by Cantor Ben SharpeNo
  class on May 18
DTSTART;TZID=America/Toronto:20210420T193000
DTEND;TZID=America/Toronto:20210420T203000
END:VEVENT
END:VCALENDAR
