BEGIN:VCALENDAR
PRODID:-//eluceo/ical//2.0/EN
VERSION:2.0
CALSCALE:GREGORIAN
BEGIN:VEVENT
UID:1d635812ddbdab61131d4bf5913b0849
DTSTAMP:20260422T000436Z
SUMMARY:Women Friends of Baycrest:  Night at the Museum
DESCRIPTION:UJA Federation of Greater Toronto\nJewish Toronto Calendar\nhtt
 ps://jewishtoronto.com/calendar/women-friends-of-baycrest-night-at-the-mus
 eum\n\nPreview of the Kalifer Heritage and Legacy Project and Caring Commu
 nity Exhibit.\n\nTour & Remarks by Bianca Stern
DTSTART;TZID=America/Toronto:20150513T190000
DTEND;TZID=America/Toronto:20150513T210000
END:VEVENT
END:VCALENDAR
