BEGIN:VCALENDAR
PRODID:-//eluceo/ical//2.0/EN
VERSION:2.0
CALSCALE:GREGORIAN
BEGIN:VEVENT
UID:d5144f0864a5bc37dda7239222391d0b
DTSTAMP:20260420T140823Z
SUMMARY:Women Friends of Baycrest Event #2
DESCRIPTION:UJA Federation of Greater Toronto\nJewish Toronto Calendar\nhtt
 ps://jewishtoronto.com/calendar/women-friends-of-baycrest-event-2-14691297
 50\n\nThe 2017 Women Friends of Baycrest Event #2
DTSTART;TZID=America/Toronto:20170613T140000
DTEND;TZID=America/Toronto:20170613T163000
END:VEVENT
END:VCALENDAR
