BEGIN:VCALENDAR
PRODID:-//eluceo/ical//2.0/EN
VERSION:2.0
CALSCALE:GREGORIAN
BEGIN:VEVENT
UID:7aa0967bb607dc501981e68abb34efb9
DTSTAMP:20260424T144920Z
SUMMARY:Women Friends of Baycrest 2025 Launch Event
DESCRIPTION:UJA Federation of Greater Toronto\nJewish Toronto Calendar\nhtt
 ps://jewishtoronto.com/calendar/women-friends-of-baycrest-2025-launch-even
 t-1741098482\n\nOUR DIVERSE CITY EXHIBITION\nAn artistic journey of Jewish
  culture through the ages: Highlights from the Chinese Cultural Centre and
  the Columbus Centre.\n\nA minimum gift of $360 gives you entry to the 202
 5 Women Friends of Baycrest entire series of events.\nRSVP Required.
DTSTART;TZID=America/Toronto:20250506T183000
DTEND;TZID=America/Toronto:20250506T203000
END:VEVENT
END:VCALENDAR
