BEGIN:VCALENDAR
PRODID:-//eluceo/ical//2.0/EN
VERSION:2.0
CALSCALE:GREGORIAN
BEGIN:VEVENT
UID:8be8a6185577a298cab84ff1e9841250
DTSTAMP:20260419T230208Z
SUMMARY:Women Friends of Baycrest 2024 Launch Event
DESCRIPTION:UJA Federation of Greater Toronto\nJewish Toronto Calendar\nhtt
 ps://jewishtoronto.com/calendar/women-friends-of-baycrest-2024-launch-even
 t-1708547588\n\nCanadian Icons Exhibition: Celebrating Cultural Heroes\nA 
 celebration of the diverse and influential figures that have shaped Canada
 ’s cultural landscape.\n\nA minimum gift of $360 gives you entry to the 
 2024 Women Friends of Baycrest Launch and entire series of events.
DTSTART;TZID=America/Toronto:20240508T183000
DTEND;TZID=America/Toronto:20240508T210000
END:VEVENT
END:VCALENDAR
