BEGIN:VCALENDAR
PRODID:-//eluceo/ical//2.0/EN
VERSION:2.0
CALSCALE:GREGORIAN
BEGIN:VEVENT
UID:8f457becd82064e01c8f888a399ebdfb
DTSTAMP:20260420T040749Z
SUMMARY:Women Friends of Baycrest
DESCRIPTION:UJA Federation of Greater Toronto\nJewish Toronto Calendar\nhtt
 ps://jewishtoronto.com/calendar/women-friends-of-baycrest-1549546623\n\nAn
  Evening of Innovation Chamagne Launch in honour of the Women of Distincti
 on.\n\nA minimum $360 gift gives you entry to the entire series of Women F
 riends of Baycrest events in 2019.
DTSTART;TZID=America/Toronto:20190430T183000
DTEND;TZID=America/Toronto:20190430T203000
END:VEVENT
END:VCALENDAR
