BEGIN:VCALENDAR
PRODID:-//eluceo/ical//2.0/EN
VERSION:2.0
CALSCALE:GREGORIAN
BEGIN:VEVENT
UID:3cc2d67623bf3e454c811234d57f3bb9
DTSTAMP:20260422T222447Z
SUMMARY:Women Friends of Baycrest - Launch Event
DESCRIPTION:UJA Federation of Greater Toronto\nJewish Toronto Calendar\nhtt
 ps://jewishtoronto.com/calendar/women-friends-of-baycrest---launch-event-1
 581540059\n\nJoin us for an Evening of History\, Past and Present\nHonouri
 ng the Women of Distinction and special guests\nFeatured documentary - Pro
 secuting Evil – Directed and Produced by Barry Avrich\n\nTuesday\, April
  28\, 6:00 p.m. Dinner\, 7:00 p.m. Program\nThe Jacob Family Theatre - Bay
 crest\n3560 Bathurst Street\n\nA minimum $360 gift gives you entry to the 
 2020 Women Friends of Baycrest Launch event and entire series of events.
DTSTART;TZID=America/Toronto:20200428T180000
DTEND;TZID=America/Toronto:20200428T210000
END:VEVENT
END:VCALENDAR
