BEGIN:VCALENDAR
PRODID:-//eluceo/ical//2.0/EN
VERSION:2.0
CALSCALE:GREGORIAN
BEGIN:VEVENT
UID:13444874fbba0414332bf2311cfa2b3e
DTSTAMP:20260424T153919Z
SUMMARY:Women for Israel Event
DESCRIPTION:UJA Federation of Greater Toronto\nJewish Toronto Calendar\nhtt
 ps://jewishtoronto.com/calendar/women-for-israel-event-1776784369\n\nFrien
 ds of JNF Canada is hosting a women's event with special guest speakers
DTSTART;TZID=America/Toronto:20260608T190000
DTEND;TZID=America/Toronto:20260608T210000
END:VEVENT
END:VCALENDAR
