BEGIN:VCALENDAR
PRODID:-//eluceo/ical//2.0/EN
VERSION:2.0
CALSCALE:GREGORIAN
BEGIN:VEVENT
UID:eed7ca3e77d6ee4dbe1e6cea29c37f44
DTSTAMP:20260422T022242Z
SUMMARY:Women and Heart Disease
DESCRIPTION:UJA Federation of Greater Toronto\nJewish Toronto Calendar\nhtt
 ps://jewishtoronto.com/calendar/women-and-heart-disease-1492688536\n\nCard
 iologist Dr. Beth L. Abramson will discuss Women and Heart Disease\, Under
 standing the Issues-Protecting your Loved Ones. Please join us for an info
 rmative evening. Everyone welcome.\nReception-7:15 pm\nSpeaker-8 pm\nFree 
 admission\n 
DTSTART;TZID=America/Toronto:20170503T191500
DTEND;TZID=America/Toronto:20170503T213000
END:VEVENT
END:VCALENDAR
