BEGIN:VCALENDAR
PRODID:-//eluceo/ical//2.0/EN
VERSION:2.0
CALSCALE:GREGORIAN
BEGIN:VEVENT
UID:da75d1063f71e5a9140f5f8d1df08afe
DTSTAMP:20260420T083627Z
SUMMARY:Woman Abuse Lunch Event
DESCRIPTION:UJA Federation of Greater Toronto\nJewish Toronto Calendar\nhtt
 ps://jewishtoronto.com/calendar/woman-abuse-lunch-event-1582818403\n\nJewi
 sh Family and Child Service- Woman Abuse Lunch Event
DTSTART;TZID=America/Toronto:20200527T123000
DTEND;TZID=America/Toronto:20200527T153000
END:VEVENT
END:VCALENDAR
