BEGIN:VCALENDAR
PRODID:-//eluceo/ical//2.0/EN
VERSION:2.0
CALSCALE:GREGORIAN
BEGIN:VEVENT
UID:6d8410fd80b5938be162284221311ccc
DTSTAMP:20260422T103955Z
SUMMARY:Wizards of Ashkenaz Zoom Concert
DESCRIPTION:UJA Federation of Greater Toronto\nJewish Toronto Calendar\nhtt
 ps://jewishtoronto.com/calendar/wizards-of-ashkenaz-zoom-concert-160285599
 1\n\nJoin Cantors Matthew Austerklein (Beth El\, Akron\, OH)\, Yakov Hadas
 h (Shaarei Kodesh\, Boca Raton\, FL)\, Jonathan Schultz (B&#039\;nai Israe
 l\, St. Petersburg\, FL) and Beth Tzedec&#039\;s own Cantor Sidney Ezer&md
 ash\;the Wizards of Ashkenaz&mdash\;for a free\, live Zoom concert featuri
 ng upbeat\, fun\, multicultural Jewish music in four-part harmony from the
 se four Wizards! \n\nTo pre-register\, visit https://us02web.zoom.us/webin
 ar/register/WN_6BtoulrXTOGEimHeQt_zdg
DTSTART;TZID=America/Toronto:20201018T150000
DTEND;TZID=America/Toronto:20201018T160000
END:VEVENT
END:VCALENDAR
