BEGIN:VCALENDAR
PRODID:-//eluceo/ical//2.0/EN
VERSION:2.0
CALSCALE:GREGORIAN
BEGIN:VEVENT
UID:a234f0aadb4d3f5d838a35403e2a59b4
DTSTAMP:20260424T022845Z
SUMMARY:Wise Aging: Exploring Serene Older Years with Wisdom and Optimism
DESCRIPTION:UJA Federation of Greater Toronto\nJewish Toronto Calendar\nhtt
 ps://jewishtoronto.com/calendar/wise-aging-exploring-serene-older-years-wi
 th-wisdom-and-optimism-1628719793\n\nFacilitated by Lorraine Sandler and E
 laine Cooper\, this four part series will encourage us to look inward and 
 toward the Yamim Noraim with optimism\, clarity and renewal. In each sessi
 on\, we will explore different themes connected to teshuvah (repentance) a
 nd renewal. \n\nFinding One&#039\;s Authentic Self\nNourishing our inner l
 ives that helps us with our relationships to people and to God. Our past h
 istory brings us to this place and our future time on earth could be a ric
 h\, generous and...
DTSTART;TZID=America/Toronto:20210818T103000
DTEND;TZID=America/Toronto:20210818T113000
END:VEVENT
END:VCALENDAR
