BEGIN:VCALENDAR
PRODID:-//eluceo/ical//2.0/EN
VERSION:2.0
CALSCALE:GREGORIAN
BEGIN:VEVENT
UID:c822ccdea651c489ee502aea49a34a37
DTSTAMP:20260426T040519Z
SUMMARY:Winter Shulstice INTER SHULSTICE – SATURDAY DECEMBER 5 8:00PM - M
 IDNIGHT
DESCRIPTION:UJA Federation of Greater Toronto\nJewish Toronto Calendar\nhtt
 ps://jewishtoronto.com/calendar/winter-shulstice-inter-shulstice-saturday-
 december-5-800pm-midnight\n\nAn evening of fun\, dance and nosh. We are br
 inging you an evening of laughter\, great music\, comedy\, nibbles and muc
 h more.\n\nCost is $20+cash bar.\n\nFor tickets or more information\, plea
 se call 647-349-4976 or to go wintershulstice@gmail.com.\n\nTo purchase ti
 ckets use this link:\nhttps://www.eventbrite.ca/e/wintershulstice-tickets-
 18516103163
DTSTART;TZID=America/Toronto:20151205T200000
DTEND;TZID=America/Toronto:20151206T000000
END:VEVENT
END:VCALENDAR
