BEGIN:VCALENDAR
PRODID:-//eluceo/ical//2.0/EN
VERSION:2.0
CALSCALE:GREGORIAN
BEGIN:VEVENT
UID:653f42b19a36886f45f613b7bd2a6d00
DTSTAMP:20260424T020443Z
SUMMARY:Winter Games and Fun for Grades 1 to 5
DESCRIPTION:UJA Federation of Greater Toronto\nJewish Toronto Calendar\nhtt
 ps://jewishtoronto.com/calendar/winter-games-and-fun-for-grades-1-to-5-163
 8546875\n\nIt&#039\;s cold outside but warm and dry inside Beth Tzedec. Le
 t&#039\;s meet and play fun games that will keep us warm during the chilly
  weather. Pre-registration required. To register\, email Anat at AKriger@b
 eth-tzedec.org.
DTSTART;TZID=America/Toronto:20211212T140000
DTEND;TZID=America/Toronto:20211212T150000
END:VEVENT
END:VCALENDAR
