BEGIN:VCALENDAR
PRODID:-//eluceo/ical//2.0/EN
VERSION:2.0
CALSCALE:GREGORIAN
BEGIN:VEVENT
UID:2657c4eebe4db877c6b98ca7b919db5d
DTSTAMP:20260425T193701Z
SUMMARY:Winter Film Series: Maudie
DESCRIPTION:UJA Federation of Greater Toronto\nJewish Toronto Calendar\nhtt
 ps://jewishtoronto.com/calendar/winter-film-series-maudie-1515007975\n\nTh
 is inspirational movie is based on the true love story of Maud Lewis who o
 vercame the physical challenge of juvenile rheumatoid arthritis to become 
 one of Canada’s premier folk artists. An enlightening and joyful story t
 hat teaches us that happiness is a choice. 
DTSTART;TZID=America/Toronto:20180129T130000
DTEND;TZID=America/Toronto:20180129T150000
END:VEVENT
END:VCALENDAR
