BEGIN:VCALENDAR
PRODID:-//eluceo/ical//2.0/EN
VERSION:2.0
CALSCALE:GREGORIAN
BEGIN:VEVENT
UID:8b2f3b8ee5055dc1b3791abeb927dbfd
DTSTAMP:20260422T125546Z
SUMMARY:Winter Film Series: Churchill
DESCRIPTION:UJA Federation of Greater Toronto\nJewish Toronto Calendar\nhtt
 ps://jewishtoronto.com/calendar/winter-film-series-churchill-1515007534\n\
 nIn the days leading up to the D-Day landings in Normandy\, tensions mount
  for the stressed British Prime Minister Winston Churchill. Fearful of rep
 eating his deadly mistakes from World War I in the Battle of Gallipoli\, e
 xhausted by years of war\, plagued by depression and obsessed with his his
 torical destiny\, Churchill is reluctant to embark on this campaign\, upon
  which the entire war effort hinges.
DTSTART;TZID=America/Toronto:20180115T130000
DTEND;TZID=America/Toronto:20180115T150000
END:VEVENT
END:VCALENDAR
