BEGIN:VCALENDAR
PRODID:-//eluceo/ical//2.0/EN
VERSION:2.0
CALSCALE:GREGORIAN
BEGIN:VEVENT
UID:22d28f4f534a979ca79ee10a327b42f7
DTSTAMP:20260422T034058Z
SUMMARY:Will Stroet of Will’s Jams
DESCRIPTION:UJA Federation of Greater Toronto\nJewish Toronto Calendar\nhtt
 ps://jewishtoronto.com/calendar/will-stroet-of-wills-jams-1479506666\n\nWi
 ll Stroet\, the co-creator and star of the TV series Will&#039\;s Jams on 
 Kids&rsquo\; CBC\, inspires kids to be active\, healthy\, creative and eng
 aged in the world through high-energy and interactive music in English and
  French. Kids will be cheering for libraries\, loving their bikes and rall
 ying for vegetables &ndash\; all while they&rsquo\;re on their feet and da
 ncing.  Presented by Pebble Star Productions\nAl Green Theatre in the MNjc
 c\nInfo/Tickets: www.willmusic.ca\n
DTSTART;TZID=America/Toronto:20161227T110000
DTEND;TZID=America/Toronto:20161227T130000
END:VEVENT
END:VCALENDAR
