BEGIN:VCALENDAR
PRODID:-//eluceo/ical//2.0/EN
VERSION:2.0
CALSCALE:GREGORIAN
BEGIN:VEVENT
UID:580908a3a49ab7c271e1bfe2c0c11e5e
DTSTAMP:20260422T121530Z
SUMMARY:Why the Chinese and the Jewish People Matter to Each Other
DESCRIPTION:UJA Federation of Greater Toronto\nJewish Toronto Calendar\nhtt
 ps://jewishtoronto.com/calendar/why-the-chinese-and-the-jewish-people-matt
 er-to-each-other-1776803847\n\nThis event and other in the series celebrat
 e May\, Asian Heritage Month and Jewish Heritage Month. This project is pr
 omoting collaboration and ally ship between the Chinese and the Jewish com
 munities\, and includes the availability of a free display which can be do
 wnloaded and shared with libraries and schools. The display showcases the 
 civic contributions of a range of Jewish and Chinese individuals to promot
 e awareness and good will. THESE LECTURES ARE FREE.
DTSTART;TZID=America/Toronto:20260503T105500
DTEND;TZID=America/Toronto:20260503T121500
END:VEVENT
END:VCALENDAR
