BEGIN:VCALENDAR
PRODID:-//eluceo/ical//2.0/EN
VERSION:2.0
CALSCALE:GREGORIAN
BEGIN:VEVENT
UID:e9daff95b00a96333eaaeb54cf51667f
DTSTAMP:20260420T001035Z
SUMMARY:Why Teens Do What They Do
DESCRIPTION:UJA Federation of Greater Toronto\nJewish Toronto Calendar\nhtt
 ps://jewishtoronto.com/calendar/why-teens-do-what-they-do\n\nDeborah Epste
 in-Franks talks about understanding the teen's brain and social developmen
 t and explores how we can foster good communication and strong relationshi
 ps with our teens. 15-minute coffee & nosh prior to speaker.
DTSTART;TZID=America/Toronto:20140527T201500
DTEND;TZID=America/Toronto:20140527T211500
END:VEVENT
END:VCALENDAR
