BEGIN:VCALENDAR
PRODID:-//eluceo/ical//2.0/EN
VERSION:2.0
CALSCALE:GREGORIAN
BEGIN:VEVENT
UID:bc227ab98da440d100af6b41c46187d9
DTSTAMP:20260422T194312Z
SUMMARY:Why Be Jewish? An Unorthodox Answer
DESCRIPTION:UJA Federation of Greater Toronto\nJewish Toronto Calendar\nhtt
 ps://jewishtoronto.com/calendar/why-be-jewish-an-unorthodox-answer-1455200
 622\n\nTuesday\, April 5 Beth Tzedec Presents: Why Be Jewish? An Unorthodo
 x Answer: Matthew Bronfman discusses his father Edgar’s last book and vi
 ews on Jewish life. Presented in conversation with Bernie Farber. 7:30 pm.
  Free but RSVP 416-781-3511.
DTSTART;TZID=America/Toronto:20160405T193000
DTEND;TZID=America/Toronto:20160405T220000
END:VEVENT
END:VCALENDAR
