BEGIN:VCALENDAR
PRODID:-//eluceo/ical//2.0/EN
VERSION:2.0
CALSCALE:GREGORIAN
BEGIN:VEVENT
UID:05a82ae58b90744c036ffeaec52677e9
DTSTAMP:20260425T175600Z
SUMMARY:Wheel Dance Latin Dance at Mnjcc DROP IN JDAIM
DESCRIPTION:UJA Federation of Greater Toronto\nJewish Toronto Calendar\nhtt
 ps://jewishtoronto.com/calendar/wheel-dance-latin-dance-at-mnjcc-drop-in-j
 daim-1450662427\n\nLearn Latin Dance in a comfortable and accessible envir
 onment. Classes will cover the basic elements of partner dancing\, with an
  emphasis on basic patterns\, turns and timing\, moving across the dance f
 loor\, and having fun. A mixed abilities class - everyone welcome. Bring a
  partner or come on your own.\n\nDrop in\n6:00 - 6:45 pm\n$10
DTSTART;TZID=America/Toronto:20160220T180000
DTEND;TZID=America/Toronto:20160220T184500
END:VEVENT
END:VCALENDAR
