BEGIN:VCALENDAR
PRODID:-//eluceo/ical//2.0/EN
VERSION:2.0
CALSCALE:GREGORIAN
BEGIN:VEVENT
UID:86a22fa18c937fc79ecb30a9427b0224
DTSTAMP:20260425T214631Z
SUMMARY:What Dream It Was - Theatre Installation
DESCRIPTION:UJA Federation of Greater Toronto\nJewish Toronto Calendar\nhtt
 ps://jewishtoronto.com/calendar/what-dream-it-was---theatre-installation-1
 473349909\n\nAn interactive theatrical playground presented by Ahuri Theat
 re and the Bottom’s Dream Collective in collaboration with the Miles Nad
 al JCC.\n\nParticipants of all abilities will use music\, visual art and p
 erformance to create a magical forest full of image\, sound\, movement and
  imagination. Facilitated by professional artists.
DTSTART;TZID=America/Toronto:20170213T090000
DTEND;TZID=America/Toronto:20170219T170000
END:VEVENT
END:VCALENDAR
