BEGIN:VCALENDAR
PRODID:-//eluceo/ical//2.0/EN
VERSION:2.0
CALSCALE:GREGORIAN
BEGIN:VEVENT
UID:ee001e388cfba3e97a38e513a3cf98b6
DTSTAMP:20260419T181010Z
SUMMARY:Western Hillel alumni event - Maidles with Ladles
DESCRIPTION:UJA Federation of Greater Toronto\nJewish Toronto Calendar\nhtt
 ps://jewishtoronto.com/calendar/western-hillel-alumni-event-maidles-with-l
 adles\n\nWestern Hillel alumni event - Maidles with Ladles\,
DTSTART;TZID=America/Toronto:20150422T184500
DTEND;TZID=America/Toronto:20150422T220000
END:VEVENT
END:VCALENDAR
