BEGIN:VCALENDAR
PRODID:-//eluceo/ical//2.0/EN
VERSION:2.0
CALSCALE:GREGORIAN
BEGIN:VEVENT
UID:ada804891f4488b5afdc723ddf58eddc
DTSTAMP:20260425T163221Z
SUMMARY:Weizmann Canada’s W-league Presents: Conversations with Mitch Gar
 ber
DESCRIPTION:UJA Federation of Greater Toronto\nJewish Toronto Calendar\nhtt
 ps://jewishtoronto.com/calendar/weizmann-canadas-w-league-presents-convers
 ations-with-mitch-garber\n\nFor tickets or sponsorship opportunity:  esth
 er@weizmann.ca / 416-733-9220\n 
DTSTART;TZID=America/Toronto:20150526T190000
DTEND;TZID=America/Toronto:20150526T213000
END:VEVENT
END:VCALENDAR
