BEGIN:VCALENDAR
PRODID:-//eluceo/ical//2.0/EN
VERSION:2.0
CALSCALE:GREGORIAN
BEGIN:VEVENT
UID:1f9170385ec40d19a7c4c8084d6c627a
DTSTAMP:20260425T190103Z
SUMMARY:Weizmann Canada’s National Annual Meeting
DESCRIPTION:UJA Federation of Greater Toronto\nJewish Toronto Calendar\nhtt
 ps://jewishtoronto.com/calendar/weizmann-canadas-national-annual-meeting\n
 \nWeizmann Canada’s National Annual Meeting
DTSTART;TZID=America/Toronto:20151018T100000
DTEND;TZID=America/Toronto:20151018T113000
END:VEVENT
END:VCALENDAR
