BEGIN:VCALENDAR
PRODID:-//eluceo/ical//2.0/EN
VERSION:2.0
CALSCALE:GREGORIAN
BEGIN:VEVENT
UID:069aec2a80cef3db2295e18c9bd17754
DTSTAMP:20260422T155512Z
SUMMARY:Weizmann Canada's Celebrating Philanthropy
DESCRIPTION:UJA Federation of Greater Toronto\nJewish Toronto Calendar\nhtt
 ps://jewishtoronto.com/calendar/weizmann-canadas-celebrating-philanthropy-
 1490886960\n\nWeizmann donors are invited to a cocktail event to celebrate
  their impact on Science for the Benefit of Humanity.\n**By invitation onl
 y**
DTSTART;TZID=America/Toronto:20171023T173000
DTEND;TZID=America/Toronto:20171023T193000
END:VEVENT
END:VCALENDAR
