BEGIN:VCALENDAR
PRODID:-//eluceo/ical//2.0/EN
VERSION:2.0
CALSCALE:GREGORIAN
BEGIN:VEVENT
UID:be1af294a0f49bbe9742a2d78b810ab4
DTSTAMP:20260421T135633Z
SUMMARY:Weizmann Canada Presents Dr. Ofer Yizhar
DESCRIPTION:UJA Federation of Greater Toronto\nJewish Toronto Calendar\nhtt
 ps://jewishtoronto.com/calendar/weizmann-canada-presents-dr-ofer-yizhar-15
 82131950\n\nSince 1964\, Weizmann Canada has partnered with individuals\, 
 families\, foundations and the business community to raise funds for the W
 eizmann Institute of Science &mdash\; one of the world&rsquo\;s leading mu
 ltidisciplinary basic research institutions\, located in Rehovot\, Israel.
  \n
DTSTART;TZID=America/Toronto:20200305T183000
DTEND;TZID=America/Toronto:20200305T203000
END:VEVENT
END:VCALENDAR
